BEGIN:VCALENDAR
VERSION:2.0
PRODID:-//Εθνικό Αθλητικό Κέντρο Ηρακλείου - ECPv5.7.0//NONSGML v1.0//EN
CALSCALE:GREGORIAN
METHOD:PUBLISH
X-WR-CALNAME:Εθνικό Αθλητικό Κέντρο Ηρακλείου
X-ORIGINAL-URL:https://eakh.gov.gr
X-WR-CALDESC:Events for Εθνικό Αθλητικό Κέντρο Ηρακλείου
BEGIN:VTIMEZONE
TZID:Europe/Moscow
BEGIN:STANDARD
TZOFFSETFROM:+0300
TZOFFSETTO:+0300
TZNAME:MSK
DTSTART:20200101T000000
END:STANDARD
END:VTIMEZONE
BEGIN:VEVENT
DTSTART;TZID=Europe/Moscow:20201017T180000
DTEND;TZID=Europe/Moscow:20201017T200000
DTSTAMP:20260425T064000
CREATED:20200928T152352Z
LAST-MODIFIED:20200928T205502Z
UID:2958-1602957600-1602964800@eakh.gov.gr
SUMMARY:ΓΕΗ-Ν.ΟΠΕΡ
DESCRIPTION:Πρωτάθλημα Εφήβων Αγωνιστικής Περιόδου 2020-2021
URL:https://eakh.gov.gr/event/%ce%b3%ce%b5%ce%b7-%ce%bd-%ce%bf%cf%80%ce%b5%cf%81/
LOCATION:Κλειστό Γυμναστήριο Λίντο\, Μουστακλή Σπύρου 19\, Ηράκλειο\, Ηρακλείου\, 71303\, Ελλάδα
CATEGORIES:Κλειστό Γυμναστήριο,Πετοσφαίριση
ATTACH;FMTTYPE=image/jpeg:https://eakh.gov.gr/wp-content/uploads/2020/05/volei_mpala.jpg
ORGANIZER;CN="%CE%95.%CE%A3.%CE%A0%CE%95.%CE%9A.":MAILTO:espekritis@gmail.com
END:VEVENT
END:VCALENDAR