BEGIN:VCALENDAR
VERSION:2.0
PRODID:-//Εθνικό Αθλητικό Κέντρο Ηρακλείου - ECPv5.7.0//NONSGML v1.0//EN
CALSCALE:GREGORIAN
METHOD:PUBLISH
X-WR-CALNAME:Εθνικό Αθλητικό Κέντρο Ηρακλείου
X-ORIGINAL-URL:https://eakh.gov.gr
X-WR-CALDESC:Events for Εθνικό Αθλητικό Κέντρο Ηρακλείου
BEGIN:VTIMEZONE
TZID:Europe/Moscow
BEGIN:STANDARD
TZOFFSETFROM:+0300
TZOFFSETTO:+0300
TZNAME:MSK
DTSTART:20200101T000000
END:STANDARD
END:VTIMEZONE
BEGIN:VEVENT
DTSTART;TZID=Europe/Moscow:20201018T160000
DTEND;TZID=Europe/Moscow:20201018T170000
DTSTAMP:20260424T202143
CREATED:20201013T064646Z
LAST-MODIFIED:20201013T064648Z
UID:3366-1603036800-1603040400@eakh.gov.gr
SUMMARY:ΟΛΥΜΠΙΑΔΑ  ΠΕΤΡΟΥΠΟΛΗΣ - Ν.Ο. ΡΕΘΥΜΝΟΥ
DESCRIPTION:Πρόγραμμα Αγώνων –  2ου  Παγκρήτιου Τουρνουά Υδατοσφαίρισης «Παίδων» \nΠαρασκευή 16/10/2020 – Σάββατο 17/10/2020 – Κυριακή18/10/2020 \nΚολυμβητήριο «ΛΙΝΤΟ» Ηρακλείου
URL:https://eakh.gov.gr/event/%ce%bf%ce%bb%cf%85%ce%bc%cf%80%ce%b9%ce%b1%ce%b4%ce%b1-%cf%80%ce%b5%cf%84%cf%81%ce%bf%cf%85%cf%80%ce%bf%ce%bb%ce%b7%cf%83-%ce%bd-%ce%bf-%cf%81%ce%b5%ce%b8%cf%85%ce%bc%ce%bd%ce%bf%cf%85/
LOCATION:Κολυμβητήριο Λίντο\, Μουστακλή Σπύρου 19\, Ηράκλειο\, Ηρακλείου\, 71303\, Ελλάδα
CATEGORIES:Υδατοσφαίριση
ATTACH;FMTTYPE=image/jpeg:https://eakh.gov.gr/wp-content/uploads/2020/10/pool2.jpg
END:VEVENT
END:VCALENDAR