BEGIN:VCALENDAR
VERSION:2.0
PRODID:-//Εθνικό Αθλητικό Κέντρο Ηρακλείου - ECPv5.7.0//NONSGML v1.0//EN
CALSCALE:GREGORIAN
METHOD:PUBLISH
X-WR-CALNAME:Εθνικό Αθλητικό Κέντρο Ηρακλείου
X-ORIGINAL-URL:https://eakh.gov.gr
X-WR-CALDESC:Events for Εθνικό Αθλητικό Κέντρο Ηρακλείου
BEGIN:VTIMEZONE
TZID:Europe/Moscow
BEGIN:STANDARD
TZOFFSETFROM:+0300
TZOFFSETTO:+0300
TZNAME:MSK
DTSTART:20200101T000000
END:STANDARD
END:VTIMEZONE
BEGIN:VEVENT
DTSTART;TZID=Europe/Moscow:20201017T180000
DTEND;TZID=Europe/Moscow:20201017T190000
DTSTAMP:20260425T052100
CREATED:20201013T062202Z
LAST-MODIFIED:20201013T062338Z
UID:3348-1602957600-1602961200@eakh.gov.gr
SUMMARY:Ο.Φ.Η. - ΟΛΥΜΠΙΑΔΑ ΠΕΤΡΟΥΠΟΛΗΣ
DESCRIPTION:Πρόγραμμα Αγώνων –  2ου  Παγκρήτιου Τουρνουά Υδατοσφαίρισης «Παίδων» \nΠαρασκευή 16/10/2020 – Σάββατο 17/10/2020 – Κυριακή18/10/2020 \nΚολυμβητήριο «ΛΙΝΤΟ» Ηρακλείου
URL:https://eakh.gov.gr/event/%cf%80%ce%b1%ce%bd%ce%b1%ce%b8%ce%b7%ce%bd%ce%b1%cf%8a%ce%ba%ce%bf%cf%83-%cf%80%ce%b1%ce%bd%ce%b9%cf%89%ce%bd%ce%b9%ce%bf%cf%83-%ce%b3-%cf%83-%cf%83-2/
LOCATION:Κολυμβητήριο Λίντο\, Μουστακλή Σπύρου 19\, Ηράκλειο\, Ηρακλείου\, 71303\, Ελλάδα
CATEGORIES:Υδατοσφαίριση
ATTACH;FMTTYPE=image/jpeg:https://eakh.gov.gr/wp-content/uploads/2020/10/pool2.jpg
END:VEVENT
END:VCALENDAR