BEGIN:VCALENDAR
VERSION:2.0
PRODID:-//Εθνικό Αθλητικό Κέντρο Ηρακλείου - ECPv5.7.0//NONSGML v1.0//EN
CALSCALE:GREGORIAN
METHOD:PUBLISH
X-WR-CALNAME:Εθνικό Αθλητικό Κέντρο Ηρακλείου
X-ORIGINAL-URL:https://eakh.gov.gr
X-WR-CALDESC:Events for Εθνικό Αθλητικό Κέντρο Ηρακλείου
BEGIN:VTIMEZONE
TZID:Europe/Moscow
BEGIN:STANDARD
TZOFFSETFROM:+0300
TZOFFSETTO:+0300
TZNAME:MSK
DTSTART:20200101T000000
END:STANDARD
END:VTIMEZONE
BEGIN:VEVENT
DTSTART;TZID=Europe/Moscow:20201025T170000
DTEND;TZID=Europe/Moscow:20201025T190000
DTSTAMP:20260420T170202
CREATED:20201020T062749Z
LAST-MODIFIED:20201020T085244Z
UID:3437-1603645200-1603652400@eakh.gov.gr
SUMMARY:ΠΗΓΑΣΟΣ2 - ΟΦΗ
DESCRIPTION:Πρωτάθλημα Κορασίδων Β Ανατολικής Κρήτης Αγωνιστικής Περιόδου 2020-2021
URL:https://eakh.gov.gr/event/%cf%80%ce%b7%ce%b3%ce%b1%cf%83%ce%bf%cf%832-%ce%bf%cf%86%ce%b7/
LOCATION:Κλειστό Γυμναστήριο Λίντο\, Μουστακλή Σπύρου 19\, Ηράκλειο\, Ηρακλείου\, 71303\, Ελλάδα
CATEGORIES:Κλειστό Γυμναστήριο,Πετοσφαίριση
ATTACH;FMTTYPE=image/jpeg:https://eakh.gov.gr/wp-content/uploads/2020/05/volei_mpala.jpg
ORGANIZER;CN="%CE%95.%CE%A3.%CE%A0%CE%95.%CE%9A.":MAILTO:espekritis@gmail.com
END:VEVENT
END:VCALENDAR