BEGIN:VCALENDAR
VERSION:2.0
PRODID:-//Εθνικό Αθλητικό Κέντρο Ηρακλείου - ECPv5.7.0//NONSGML v1.0//EN
CALSCALE:GREGORIAN
METHOD:PUBLISH
X-WR-CALNAME:Εθνικό Αθλητικό Κέντρο Ηρακλείου
X-ORIGINAL-URL:https://eakh.gov.gr
X-WR-CALDESC:Events for Εθνικό Αθλητικό Κέντρο Ηρακλείου
BEGIN:VTIMEZONE
TZID:Europe/Moscow
BEGIN:STANDARD
TZOFFSETFROM:+0300
TZOFFSETTO:+0300
TZNAME:MSK
DTSTART:20210101T000000
END:STANDARD
END:VTIMEZONE
BEGIN:VEVENT
DTSTART;TZID=Europe/Moscow:20210522T133000
DTEND;TZID=Europe/Moscow:20210522T143000
DTSTAMP:20260420T213717
CREATED:20210521T094247Z
LAST-MODIFIED:20210521T094509Z
UID:4795-1621690200-1621693800@eakh.gov.gr
SUMMARY:ΤΡΙΤΩΝ - ΣΚ ΡΟΗ
DESCRIPTION:ΑΓΩΝΕΣ ΥΔΑΤΟΣΦΑΙΡΙΣΗΣ ΠΡΩΤΑΘΛΗΜΑΤΟΣ Α΄ ΦΑΣΗΣ ΠΑΙΔΩΝ Κ 15 2021
URL:https://eakh.gov.gr/event/%cf%84%cf%81%ce%b9%cf%84%cf%89%ce%bd-%cf%83%ce%ba-%cf%81%ce%bf%ce%b7/
LOCATION:Κολυμβητήριο Λίντο\, Μουστακλή Σπύρου 19\, Ηράκλειο\, Ηρακλείου\, 71303\, Ελλάδα
CATEGORIES:Υδατοσφαίριση
ATTACH;FMTTYPE=image/jpeg:https://eakh.gov.gr/wp-content/uploads/2020/10/pool2.jpg
END:VEVENT
END:VCALENDAR